BEGIN:VCALENDAR
VERSION:2.0
PRODID:-//Surfrider San Mateo County Chapter - ECPv5.5.0.1//NONSGML v1.0//EN
CALSCALE:GREGORIAN
METHOD:PUBLISH
X-WR-CALNAME:Surfrider San Mateo County Chapter
X-ORIGINAL-URL:https://smc.surfrider.org
X-WR-CALDESC:Events for Surfrider San Mateo County Chapter
BEGIN:VTIMEZONE
TZID:America/Los_Angeles
BEGIN:DAYLIGHT
TZOFFSETFROM:-0800
TZOFFSETTO:-0700
TZNAME:PDT
DTSTART:20190310T100000
END:DAYLIGHT
BEGIN:STANDARD
TZOFFSETFROM:-0700
TZOFFSETTO:-0800
TZNAME:PST
DTSTART:20191103T090000
END:STANDARD
END:VTIMEZONE
BEGIN:VEVENT
DTSTART;TZID=America/Los_Angeles:20190915T103000
DTEND;TZID=America/Los_Angeles:20190915T173000
DTSTAMP:20210506T062631
CREATED:20190712T224327Z
LAST-MODIFIED:20190909T232036Z
UID:2551-1568543400-1568568600@smc.surfrider.org
SUMMARY:2019 Fish & Fleet Festival
DESCRIPTION:Come visit the Surfrider Foundation San Mateo County team at the 2019 Fish & Fleet Festival at Pillar Point Harbor. \nVisit http://hmbfishandfleet.com/ for more information.
URL:https://smc.surfrider.org/events/2019-fish-fleet-festival/
LOCATION:Pillar Point Harbor\, 1 Johnson Pier\, Half Moon Bay\, CA\, 94019\, United States
END:VEVENT
END:VCALENDAR