BEGIN:VCALENDAR
VERSION:2.0
PRODID:-//Surfrider San Mateo County Chapter - ECPv5.5.0.1//NONSGML v1.0//EN
CALSCALE:GREGORIAN
METHOD:PUBLISH
X-WR-CALNAME:Surfrider San Mateo County Chapter
X-ORIGINAL-URL:https://smc.surfrider.org
X-WR-CALDESC:Events for Surfrider San Mateo County Chapter
BEGIN:VTIMEZONE
TZID:America/Los_Angeles
BEGIN:DAYLIGHT
TZOFFSETFROM:-0800
TZOFFSETTO:-0700
TZNAME:PDT
DTSTART:20190310T100000
END:DAYLIGHT
BEGIN:STANDARD
TZOFFSETFROM:-0700
TZOFFSETTO:-0800
TZNAME:PST
DTSTART:20191103T090000
END:STANDARD
END:VTIMEZONE
BEGIN:VEVENT
DTSTART;TZID=America/Los_Angeles:20190929T100000
DTEND;TZID=America/Los_Angeles:20190929T180000
DTSTAMP:20210506T062638
CREATED:20190712T225253Z
LAST-MODIFIED:20190924T203944Z
UID:2557-1569751200-1569780000@smc.surfrider.org
SUMMARY:2019 Pacific Coast Fogfest
DESCRIPTION:Come visit the Surfrider Foundation San Mateo County team at the 2019 Pacific Coast Fogfest on Saturday\, September 28 and Sunday\, September 29. \nWe need volunteers!  Help us table\, share ways to protect and enjoy the ocean\, and have fun with our community! Contact Taletha Derrington\, secretary@smc.surfrider.org\, to sign up. \nVisit pacificcoastfogfest.com for more information.
URL:https://smc.surfrider.org/events/2019-pacific-coast-fogfest-2/
LOCATION:Palmetto Avenue\, Pacifica\, Pacifica\, CA\, 94044\, United States
END:VEVENT
END:VCALENDAR