BEGIN:VCALENDAR
VERSION:2.0
PRODID:-//Surfrider San Mateo County Chapter - ECPv5.5.0.1//NONSGML v1.0//EN
CALSCALE:GREGORIAN
METHOD:PUBLISH
X-WR-CALNAME:Surfrider San Mateo County Chapter
X-ORIGINAL-URL:https://smc.surfrider.org
X-WR-CALDESC:Events for Surfrider San Mateo County Chapter
BEGIN:VTIMEZONE
TZID:America/Los_Angeles
BEGIN:DAYLIGHT
TZOFFSETFROM:-0800
TZOFFSETTO:-0700
TZNAME:PDT
DTSTART:20210314T100000
END:DAYLIGHT
BEGIN:STANDARD
TZOFFSETFROM:-0700
TZOFFSETTO:-0800
TZNAME:PST
DTSTART:20211107T090000
END:STANDARD
END:VTIMEZONE
BEGIN:VEVENT
DTSTART;TZID=America/Los_Angeles:20210918T090000
DTEND;TZID=America/Los_Angeles:20210918T110000
DTSTAMP:20210912T090939
CREATED:20210809T053426Z
LAST-MODIFIED:20210809T053426Z
UID:3195-1631955600-1631962800@smc.surfrider.org
SUMMARY:Beach cleanup - Poplar Beach
DESCRIPTION:Come join us for a beach clean-up from 9 am-11 am at Poplar Beach for the 37th Annual Coastal Cleanup Day!  \nDrop-ins welcome. We will have gloves and buckets. We also encourage participants to bring their own gloves\, grabbers\, or buckets. Come on down and help clean up the beach! \nIf you are feeling sick or are experiencing any COVID-19 symptoms\, please stay home and attend another cleanup when it is safe to do so.  The wearing of masks and gloves\, and the practicing of physical distancing is a requirement for all attendees. \n*Note* rain cancels clean-ups. If you have any questions you may contact us at beachcleanups@smc.surfrider.org. \nFor more information on Coastal Cleanup Day click here. \n  \n 
URL:https://smc.surfrider.org/events/bcu_20210919/
LOCATION:Poplar Beach\, 250 Poplar St.\, Half Moon Bay\, CA\, 94019\, United States
END:VEVENT
END:VCALENDAR