BEGIN:VCALENDAR
VERSION:2.0
PRODID:-//Surfrider San Mateo County Chapter - ECPv5.5.0.1//NONSGML v1.0//EN
CALSCALE:GREGORIAN
METHOD:PUBLISH
X-WR-CALNAME:Surfrider San Mateo County Chapter
X-ORIGINAL-URL:https://smc.surfrider.org
X-WR-CALDESC:Events for Surfrider San Mateo County Chapter
BEGIN:VTIMEZONE
TZID:America/Los_Angeles
BEGIN:DAYLIGHT
TZOFFSETFROM:-0800
TZOFFSETTO:-0700
TZNAME:PDT
DTSTART:20190310T100000
END:DAYLIGHT
BEGIN:STANDARD
TZOFFSETFROM:-0700
TZOFFSETTO:-0800
TZNAME:PST
DTSTART:20191103T090000
END:STANDARD
END:VTIMEZONE
BEGIN:VEVENT
DTSTART;TZID=America/Los_Angeles:20191221T110000
DTEND;TZID=America/Los_Angeles:20191221T130000
DTSTAMP:20210428T065447
CREATED:20190712T230701Z
LAST-MODIFIED:20191204T075719Z
UID:2565-1576926000-1576933200@smc.surfrider.org
SUMMARY:Beach Cleanup - Francis State Beach\, HMB
DESCRIPTION:Beach clean-up 10am-12pm. Drop-ins welcome. We will have gloves and buckets. We also encourage participants to bring their own gloves\, grabbers\, or buckets. Come on down and help clean up the beach! \nThere are restrooms and parking. \n*Note* rain cancels clean-ups. If you have any questions you may contact us at beachcleanups@smc.surfrider.org.
URL:https://smc.surfrider.org/events/beach-cleanup-francis-20191221/
LOCATION:Francis Beach\, 95 Kelly Ave.\, Half Moon Bay\, CA\, 94019\, United States
END:VEVENT
END:VCALENDAR