BEGIN:VCALENDAR
VERSION:2.0
PRODID:-//Surfrider San Mateo County Chapter - ECPv5.5.0.1//NONSGML v1.0//EN
CALSCALE:GREGORIAN
METHOD:PUBLISH
X-WR-CALNAME:Surfrider San Mateo County Chapter
X-ORIGINAL-URL:https://smc.surfrider.org
X-WR-CALDESC:Events for Surfrider San Mateo County Chapter
BEGIN:VTIMEZONE
TZID:America/Los_Angeles
BEGIN:DAYLIGHT
TZOFFSETFROM:-0800
TZOFFSETTO:-0700
TZNAME:PDT
DTSTART:20200308T100000
END:DAYLIGHT
BEGIN:STANDARD
TZOFFSETFROM:-0700
TZOFFSETTO:-0800
TZNAME:PST
DTSTART:20201101T090000
END:STANDARD
END:VTIMEZONE
BEGIN:VEVENT
DTSTART;TZID=America/Los_Angeles:20200718T090000
DTEND;TZID=America/Los_Angeles:20200718T110000
DTSTAMP:20210506T062718
CREATED:20200630T213746Z
LAST-MODIFIED:20200714T002713Z
UID:2927-1595062800-1595070000@smc.surfrider.org
SUMMARY:Beach Cleanup - Poplar Beach\, HMB
DESCRIPTION:Come join us for a beach clean-up from 9 am-11 am. Drop-ins welcome. We will have gloves and buckets. We also encourage participants to bring their own gloves\, grabbers\, or buckets. Come on down and help clean up the beach! \nIf you are feeling sick or are experiencing any COVID-19 symptoms\, please stay home and attend another cleanup when it is safe to do so.  The wearing of masks and gloves\, and the practicing of physical distancing is a requirement for all attendees. \n*Note* rain cancels clean-ups. If you have any questions you may contact us at beachcleanups@smc.surfrider.org.
URL:https://smc.surfrider.org/events/beach-cleanup-poplar-beach-hmb-20200718/
LOCATION:Poplar Beach\, 250 Poplar St.\, Half Moon Bay\, CA\, 94019\, United States
END:VEVENT
END:VCALENDAR