BEGIN:VCALENDAR
VERSION:2.0
PRODID:-//Surfrider San Mateo County Chapter - ECPv5.5.0.1//NONSGML v1.0//EN
CALSCALE:GREGORIAN
METHOD:PUBLISH
X-WR-CALNAME:Surfrider San Mateo County Chapter
X-ORIGINAL-URL:https://smc.surfrider.org
X-WR-CALDESC:Events for Surfrider San Mateo County Chapter
BEGIN:VTIMEZONE
TZID:America/Los_Angeles
BEGIN:DAYLIGHT
TZOFFSETFROM:-0800
TZOFFSETTO:-0700
TZNAME:PDT
DTSTART:20190310T100000
END:DAYLIGHT
BEGIN:STANDARD
TZOFFSETFROM:-0700
TZOFFSETTO:-0800
TZNAME:PST
DTSTART:20191103T090000
END:STANDARD
END:VTIMEZONE
BEGIN:VEVENT
DTSTART;TZID=America/Los_Angeles:20190309T150000
DTEND;TZID=America/Los_Angeles:20190309T163000
DTSTAMP:20210428T065326
CREATED:20190117T082824Z
LAST-MODIFIED:20190308T064259Z
UID:2190-1552143600-1552149000@smc.surfrider.org
SUMMARY:San Mateo Surfrider Chapter Meeting
DESCRIPTION:Join us for our chapter meeting on March 9th from 3:00-4:30pm.  A link to our meeting agenda is below. The meeting will be at the GCSD meeting room at 504 Avenue Alhambra\, 3rd Floor\, El Granada\, CA 94018. After the chapter meeting\, our team will continue to a local spot for a few brews. We hope to see you there! \nSMC_Surfrider_Agenda_March-2019
URL:https://smc.surfrider.org/events/san-mateo-surfrider-chapter-meeting/
LOCATION:Granada Community Services District Offices\, 504 Avenue Alhambra\, Fl 3\, El Granada\, CA\, 94018\, United States
END:VEVENT
END:VCALENDAR