BEGIN:VCALENDAR
VERSION:2.0
PRODID:-//Surfrider San Mateo County Chapter - ECPv5.5.0.1//NONSGML v1.0//EN
CALSCALE:GREGORIAN
METHOD:PUBLISH
X-WR-CALNAME:Surfrider San Mateo County Chapter
X-ORIGINAL-URL:https://smc.surfrider.org
X-WR-CALDESC:Events for Surfrider San Mateo County Chapter
BEGIN:VTIMEZONE
TZID:America/Los_Angeles
BEGIN:DAYLIGHT
TZOFFSETFROM:-0800
TZOFFSETTO:-0700
TZNAME:PDT
DTSTART:20190310T100000
END:DAYLIGHT
BEGIN:STANDARD
TZOFFSETFROM:-0700
TZOFFSETTO:-0800
TZNAME:PST
DTSTART:20191103T090000
END:STANDARD
END:VTIMEZONE
BEGIN:VEVENT
DTSTART;TZID=America/Los_Angeles:20190207T180000
DTEND;TZID=America/Los_Angeles:20190207T200000
DTSTAMP:20210506T062600
CREATED:20190125T222104Z
LAST-MODIFIED:20190125T222438Z
UID:2201-1549562400-1549569600@smc.surfrider.org
SUMMARY:San Mateo Surfrider Social at HMB Brewing Co!
DESCRIPTION:Join us for a fun social mixer on Thursday\, February 7th from 6-8:00 PM at Half Moon Bay Brewing Company! Meet the team and other members. Find out more about the work of our local Surfrider Chapter and how to get involved. We hope to see you there!
URL:https://smc.surfrider.org/events/san-mateo-surfrider-social-at-hmb-brewing-co/
LOCATION:Half Moon Bay Brewing Co.\, 390 Capistrano Rd.\, Half Moon Bay\, CA\, 94019\, United States
END:VEVENT
END:VCALENDAR