BEGIN:VCALENDAR
VERSION:2.0
PRODID:-//Surfrider San Mateo County Chapter - ECPv5.5.0.1//NONSGML v1.0//EN
CALSCALE:GREGORIAN
METHOD:PUBLISH
X-WR-CALNAME:Surfrider San Mateo County Chapter
X-ORIGINAL-URL:https://smc.surfrider.org
X-WR-CALDESC:Events for Surfrider San Mateo County Chapter
BEGIN:VTIMEZONE
TZID:America/Los_Angeles
BEGIN:DAYLIGHT
TZOFFSETFROM:-0800
TZOFFSETTO:-0700
TZNAME:PDT
DTSTART:20190310T100000
END:DAYLIGHT
BEGIN:STANDARD
TZOFFSETFROM:-0700
TZOFFSETTO:-0800
TZNAME:PST
DTSTART:20191103T090000
END:STANDARD
END:VTIMEZONE
BEGIN:VEVENT
DTSTART;TZID=America/Los_Angeles:20191214T150000
DTEND;TZID=America/Los_Angeles:20191214T163000
DTSTAMP:20210427T025219
CREATED:20190814T194931Z
LAST-MODIFIED:20191204T080102Z
UID:2616-1576335600-1576341000@smc.surfrider.org
SUMMARY:Surfrider San Mateo Chapter Meeting (New location!)
DESCRIPTION:Join us for our chapter meeting on December 14th from 3:00-4:30pm. An agenda will be posted on our website as the date approaches. We hope to see you there!\n\nNOTE: New Location:  Surfrider SMC Lab\, 22 West Point Avenue\, Moss Beach (Half Moon Bay\, on the road to Mavericks\, next to the West Point Parking Lot)
URL:https://smc.surfrider.org/events/surfrider-san-mateo-chapter-meeting-2/
LOCATION:Surfrider San Mateo County Lab\, 22 West Point Road\, Moss Beach\, CA\, 94038\, United States
END:VEVENT
END:VCALENDAR