BEGIN:VCALENDAR
VERSION:2.0
PRODID:-//Surfrider San Mateo County Chapter - ECPv5.1.2.1//NONSGML v1.0//EN
CALSCALE:GREGORIAN
METHOD:PUBLISH
X-WR-CALNAME:Surfrider San Mateo County Chapter
X-ORIGINAL-URL:https://smc.surfrider.org
X-WR-CALDESC:Events for Surfrider San Mateo County Chapter
BEGIN:VTIMEZONE
TZID:America/Los_Angeles
BEGIN:DAYLIGHT
TZOFFSETFROM:-0800
TZOFFSETTO:-0700
TZNAME:PDT
DTSTART:20210314T100000
END:DAYLIGHT
BEGIN:STANDARD
TZOFFSETFROM:-0700
TZOFFSETTO:-0800
TZNAME:PST
DTSTART:20211107T090000
END:STANDARD
END:VTIMEZONE
BEGIN:VEVENT
DTSTART;TZID=America/Los_Angeles:20210415T190000
DTEND;TZID=America/Los_Angeles:20210415T203000
DTSTAMP:20210425T153918
CREATED:20210129T065359Z
LAST-MODIFIED:20210129T065453Z
UID:3141-1618513200-1618518600@smc.surfrider.org
SUMMARY:Surfrider San Mateo Chapter Meeting
DESCRIPTION:\n\n\nPlease join us via Zoom for our next Surfrider San Mateo Chapter meeting on April 15th from 7-8:30 pm. \nJoin Zoom Meeting\nhttps://us02web.zoom.us/j/87969611349?pwd=VVdFUnNwejlBdmxJZjc0d0FoRndrUT09 \nMeeting ID: 879 6961 1349\nPasscode: 413231\nOne tap mobile\n+16699006833\,\,87969611349# US (San Jose)\n+13462487799\,\,87969611349# US (Houston) \nDial by your location\n+1 669 900 6833 US (San Jose)\n+1 346 248 7799 US (Houston)\n+1 253 215 8782 US (Tacoma)\n+1 301 715 8592 US (Washington DC)\n+1 312 626 6799 US (Chicago)\n+1 929 205 6099 US (New York)\nMeeting ID: 879 6961 1349\nFind your local number: https://us02web.zoom.us/u/kxo4PT1F3 \nPlease download and import the following iCalendar (.ics) files to your calendar system.\nMonthly: https://us02web.zoom.us/meeting/tZMkceCurzopHt1aZEO3kpXWZBlySdZQu-Ae/ics?icsToken=98tyKuGvpz0jHNWUsx2ORpwEHY_oXe7zmH5egrcMnSXALHNYcjvBDMBOK4F7KunF\n\n\n\n
URL:https://smc.surfrider.org/events/surfrider-san-mateo-chapter-meeting-apr2021/
END:VEVENT
END:VCALENDAR