BEGIN:VCALENDAR
VERSION:2.0
PRODID:-//Surfrider San Mateo County Chapter - ECPv5.5.0.1//NONSGML v1.0//EN
CALSCALE:GREGORIAN
METHOD:PUBLISH
X-WR-CALNAME:Surfrider San Mateo County Chapter
X-ORIGINAL-URL:https://smc.surfrider.org
X-WR-CALDESC:Events for Surfrider San Mateo County Chapter
BEGIN:VTIMEZONE
TZID:America/Los_Angeles
BEGIN:DAYLIGHT
TZOFFSETFROM:-0800
TZOFFSETTO:-0700
TZNAME:PDT
DTSTART:20200308T100000
END:DAYLIGHT
BEGIN:STANDARD
TZOFFSETFROM:-0700
TZOFFSETTO:-0800
TZNAME:PST
DTSTART:20201101T090000
END:STANDARD
END:VTIMEZONE
BEGIN:VEVENT
DTSTART;TZID=America/Los_Angeles:20200718T170000
DTEND;TZID=America/Los_Angeles:20200718T180000
DTSTAMP:20210506T214015
CREATED:20200630T183233Z
LAST-MODIFIED:20200717T222642Z
UID:2923-1595091600-1595095200@smc.surfrider.org
SUMMARY:Surfrider San Mateo Chapter Meeting
DESCRIPTION:Join us for our chapter meeting on July 18th from 5:00-6:00pm. \nClick here to see the meeting agenda. \nJoin Zoom Meeting\nhttps://us02web.zoom.us/j/86562160194?pwd=R0pNMXB2dCtmeGc0T0FXYnhTRkpxUT09 \nMeeting ID: 865 6216 0194\nPassword: 269172 \nDial by your location\n+1 669 900 6833 US (San Jose)\n+1 253 215 8782 US (Tacoma)\n+1 346 248 7799 US (Houston)\n+1 301 715 8592 US (Germantown)\n+1 312 626 6799 US (Chicago)\n+1 929 205 6099 US (New York)\nMeeting ID: 865 6216 0194\nPassword: 269172\nFind your local number: https://us02web.zoom.us/u/kd0UnIqVZO
URL:https://smc.surfrider.org/events/surfrider-san-mateo-chapter-meeting-july-2020/
END:VEVENT
END:VCALENDAR