BEGIN:VCALENDAR
VERSION:2.0
PRODID:-//Surfrider San Mateo County Chapter - ECPv5.5.0.1//NONSGML v1.0//EN
CALSCALE:GREGORIAN
METHOD:PUBLISH
X-WR-CALNAME:Surfrider San Mateo County Chapter
X-ORIGINAL-URL:https://smc.surfrider.org
X-WR-CALDESC:Events for Surfrider San Mateo County Chapter
BEGIN:VTIMEZONE
TZID:America/Los_Angeles
BEGIN:DAYLIGHT
TZOFFSETFROM:-0800
TZOFFSETTO:-0700
TZNAME:PDT
DTSTART:20190310T100000
END:DAYLIGHT
BEGIN:STANDARD
TZOFFSETFROM:-0700
TZOFFSETTO:-0800
TZNAME:PST
DTSTART:20191103T090000
END:STANDARD
END:VTIMEZONE
BEGIN:VEVENT
DTSTART;TZID=America/Los_Angeles:20191022T180000
DTEND;TZID=America/Los_Angeles:20191022T203000
DTSTAMP:20210427T025324
CREATED:20191004T001337Z
LAST-MODIFIED:20191004T001816Z
UID:2706-1571767200-1571776200@smc.surfrider.org
SUMMARY:Surfrider San Mateo County 3rd Annual Sharktober!
DESCRIPTION:Join us for light bites\, beverages\, and stories about understanding of and coexistence with white sharks by guest speaker David McGuire of Shark Stewards.
URL:https://smc.surfrider.org/events/surfrider-smc-sharktober-2019/
LOCATION:Half Moon Bay Yacht Club\, 214 Princeton Avenue\, Half Moon Bay\, CA\, 94019\, United States
END:VEVENT
END:VCALENDAR