BEGIN:VCALENDAR
VERSION:2.0
PRODID:-//Surfrider San Mateo County Chapter - ECPv5.5.0.1//NONSGML v1.0//EN
CALSCALE:GREGORIAN
METHOD:PUBLISH
X-WR-CALNAME:Surfrider San Mateo County Chapter
X-ORIGINAL-URL:https://smc.surfrider.org
X-WR-CALDESC:Events for Surfrider San Mateo County Chapter
BEGIN:VTIMEZONE
TZID:America/Los_Angeles
BEGIN:DAYLIGHT
TZOFFSETFROM:-0800
TZOFFSETTO:-0700
TZNAME:PDT
DTSTART:20190310T100000
END:DAYLIGHT
BEGIN:STANDARD
TZOFFSETFROM:-0700
TZOFFSETTO:-0800
TZNAME:PST
DTSTART:20191103T090000
END:STANDARD
END:VTIMEZONE
BEGIN:VEVENT
DTSTART;TZID=America/Los_Angeles:20190411T180000
DTEND;TZID=America/Los_Angeles:20190411T200000
DTSTAMP:20210506T062741
CREATED:20190404T063556Z
LAST-MODIFIED:20190408T034223Z
UID:2386-1555005600-1555012800@smc.surfrider.org
SUMMARY:Surfrider Social at HMB Brewing Company!
DESCRIPTION:Join us for a fun social mixer on Thursday\, April 11th from 6-8pm at Half Moon Bay Brewing Company – we’ll be celebrating their #oceanfriendlyrestaurants anniversary! Meet the local Surfrider Chapter team and members and find out about our work and how to get involved. We hope to see you there! \n 
URL:https://smc.surfrider.org/events/surfrider-social-mixer/
LOCATION:Half Moon Bay Brewing Co.\, 390 Capistrano Rd.\, Half Moon Bay\, CA\, 94019\, United States
END:VEVENT
END:VCALENDAR